BEGIN:VCALENDAR
VERSION:2.0
PRODID:-//Πανελλαδικές 2026//GR
CALSCALE:GREGORIAN
METHOD:PUBLISH
X-WR-CALNAME:Πανελλαδικές Εξετάσεις 2026
X-WR-TIMEZONE:Europe/Athens

BEGIN:VEVENT
DTSTART:20260529T083000
DTEND:20260529T113000
SUMMARY:ΓΕΛ - Νεοελληνική Γλώσσα και Λογοτεχνία (Γενικής Παιδείας)
DESCRIPTION:Ώρα προσέλευσης: 08:00 π.μ.\nΏρα έναρξης: 08:30 π.μ.\nΔιάρκεια: 3 ώρες\nΚατηγορία: Γενικής Παιδείας
LOCATION:Εξεταστικό Κέντρο
BEGIN:VALARM
TRIGGER:-PT1H
ACTION:DISPLAY
DESCRIPTION:Υπενθύμιση: Νεοελληνική Γλώσσα και Λογοτεχνία σε 1 ώρα
END:VALARM
END:VEVENT

BEGIN:VEVENT
DTSTART:20260603T083000
DTEND:20260603T113000
SUMMARY:ΓΕΛ - Αρχαία Ελληνικά (Ο.Π. Ανθρωπιστικών Σπουδών)
DESCRIPTION:Ώρα προσέλευσης: 08:00 π.μ.\nΏρα έναρξης: 08:30 π.μ.\nΔιάρκεια: 3 ώρες\nΟ.Π. Ανθρωπιστικών Σπουδών
LOCATION:Εξεταστικό Κέντρο
BEGIN:VALARM
TRIGGER:-PT1H
ACTION:DISPLAY
DESCRIPTION:Υπενθύμιση: Αρχαία Ελληνικά σε 1 ώρα
END:VALARM
END:VEVENT

BEGIN:VEVENT
DTSTART:20260603T083000
DTEND:20260603T113000
SUMMARY:ΓΕΛ - Μαθηματικά (Ο.Π. Θετικών Σπουδών / Οικονομίας & Πληρ/κής)
DESCRIPTION:Ώρα προσέλευσης: 08:00 π.μ.\nΏρα έναρξης: 08:30 π.μ.\nΔιάρκεια: 3 ώρες\nΟ.Π. Θετικών Σπουδών + Ο.Π. Σπουδών Οικονομίας & Πληροφορικής
LOCATION:Εξεταστικό Κέντρο
BEGIN:VALARM
TRIGGER:-PT1H
ACTION:DISPLAY
DESCRIPTION:Υπενθύμιση: Μαθηματικά σε 1 ώρα
END:VALARM
END:VEVENT

BEGIN:VEVENT
DTSTART:20260603T083000
DTEND:20260603T113000
SUMMARY:ΓΕΛ - Βιολογία (Ο.Π. Σπουδών Υγείας)
DESCRIPTION:Ώρα προσέλευσης: 08:00 π.μ.\nΏρα έναρξης: 08:30 π.μ.\nΔιάρκεια: 3 ώρες\nΟ.Π. Σπουδών Υγείας
LOCATION:Εξεταστικό Κέντρο
BEGIN:VALARM
TRIGGER:-PT1H
ACTION:DISPLAY
DESCRIPTION:Υπενθύμιση: Βιολογία σε 1 ώρα
END:VALARM
END:VEVENT

BEGIN:VEVENT
DTSTART:20260605T083000
DTEND:20260605T113000
SUMMARY:ΓΕΛ - Λατινικά (Ο.Π. Ανθρωπιστικών Σπουδών)
DESCRIPTION:Ώρα προσέλευσης: 08:00 π.μ.\nΏρα έναρξης: 08:30 π.μ.\nΔιάρκεια: 3 ώρες\nΟ.Π. Ανθρωπιστικών Σπουδών
LOCATION:Εξεταστικό Κέντρο
BEGIN:VALARM
TRIGGER:-PT1H
ACTION:DISPLAY
DESCRIPTION:Υπενθύμιση: Λατινικά σε 1 ώρα
END:VALARM
END:VEVENT

BEGIN:VEVENT
DTSTART:20260605T083000
DTEND:20260605T113000
SUMMARY:ΓΕΛ - Χημεία (Ο.Π. Θετικών Σπουδών / Σπουδών Υγείας)
DESCRIPTION:Ώρα προσέλευσης: 08:00 π.μ.\nΏρα έναρξης: 08:30 π.μ.\nΔιάρκεια: 3 ώρες\nΟ.Π. Θετικών Σπουδών + Ο.Π. Σπουδών Υγείας
LOCATION:Εξεταστικό Κέντρο
BEGIN:VALARM
TRIGGER:-PT1H
ACTION:DISPLAY
DESCRIPTION:Υπενθύμιση: Χημεία σε 1 ώρα
END:VALARM
END:VEVENT

BEGIN:VEVENT
DTSTART:20260605T083000
DTEND:20260605T113000
SUMMARY:ΓΕΛ - Πληροφορική (Ο.Π. Σπουδών Οικονομίας & Πληρ/κής)
DESCRIPTION:Ώρα προσέλευσης: 08:00 π.μ.\nΏρα έναρξης: 08:30 π.μ.\nΔιάρκεια: 3 ώρες\nΟ.Π. Σπουδών Οικονομίας & Πληροφορικής
LOCATION:Εξεταστικό Κέντρο
BEGIN:VALARM
TRIGGER:-PT1H
ACTION:DISPLAY
DESCRIPTION:Υπενθύμιση: Πληροφορική σε 1 ώρα
END:VALARM
END:VEVENT

BEGIN:VEVENT
DTSTART:20260608T083000
DTEND:20260608T113000
SUMMARY:ΓΕΛ - Ιστορία (Ο.Π. Ανθρωπιστικών Σπουδών)
DESCRIPTION:Ώρα προσέλευσης: 08:00 π.μ.\nΏρα έναρξης: 08:30 π.μ.\nΔιάρκεια: 3 ώρες\nΟ.Π. Ανθρωπιστικών Σπουδών
LOCATION:Εξεταστικό Κέντρο
BEGIN:VALARM
TRIGGER:-PT1H
ACTION:DISPLAY
DESCRIPTION:Υπενθύμιση: Ιστορία σε 1 ώρα
END:VALARM
END:VEVENT

BEGIN:VEVENT
DTSTART:20260608T083000
DTEND:20260608T113000
SUMMARY:ΓΕΛ - Φυσική (Ο.Π. Θετικών Σπουδών / Σπουδών Υγείας)
DESCRIPTION:Ώρα προσέλευσης: 08:00 π.μ.\nΏρα έναρξης: 08:30 π.μ.\nΔιάρκεια: 3 ώρες\nΟ.Π. Θετικών Σπουδών + Ο.Π. Σπουδών Υγείας
LOCATION:Εξεταστικό Κέντρο
BEGIN:VALARM
TRIGGER:-PT1H
ACTION:DISPLAY
DESCRIPTION:Υπενθύμιση: Φυσική σε 1 ώρα
END:VALARM
END:VEVENT

BEGIN:VEVENT
DTSTART:20260608T083000
DTEND:20260608T113000
SUMMARY:ΓΕΛ - Οικονομία (Ο.Π. Σπουδών Οικονομίας & Πληρ/κής)
DESCRIPTION:Ώρα προσέλευσης: 08:00 π.μ.\nΏρα έναρξης: 08:30 π.μ.\nΔιάρκεια: 3 ώρες\nΟ.Π. Σπουδών Οικονομίας & Πληροφορικής
LOCATION:Εξεταστικό Κέντρο
BEGIN:VALARM
TRIGGER:-PT1H
ACTION:DISPLAY
DESCRIPTION:Υπενθύμιση: Οικονομία σε 1 ώρα
END:VALARM
END:VEVENT

BEGIN:VEVENT
DTSTART:20260530T083000
DTEND:20260530T113000
SUMMARY:ΕΠΑΛ - Νέα Ελληνικά
DESCRIPTION:Ώρα προσέλευσης: 08:00 π.μ.\nΏρα έναρξης: 08:30 π.μ.\nΔιάρκεια: 3 ώρες
LOCATION:Εξεταστικό Κέντρο
BEGIN:VALARM
TRIGGER:-PT1H
ACTION:DISPLAY
DESCRIPTION:Υπενθύμιση: ΕΠΑΛ Νέα Ελληνικά σε 1 ώρα
END:VALARM
END:VEVENT

BEGIN:VEVENT
DTSTART:20260602T083000
DTEND:20260602T113000
SUMMARY:ΕΠΑΛ - Μαθηματικά (Άλγεβρα)
DESCRIPTION:Ώρα προσέλευσης: 08:00 π.μ.\nΏρα έναρξης: 08:30 π.μ.\nΔιάρκεια: 3 ώρες
LOCATION:Εξεταστικό Κέντρο
BEGIN:VALARM
TRIGGER:-PT1H
ACTION:DISPLAY
DESCRIPTION:Υπενθύμιση: ΕΠΑΛ Μαθηματικά σε 1 ώρα
END:VALARM
END:VEVENT

BEGIN:VEVENT
DTSTART:20260604T083000
DTEND:20260604T113000
SUMMARY:ΕΠΑΛ - Ειδικότητες: Ανατομία-Φυσιολογία ΙΙ / ΑΟΘ / Δίκτυα Υπολογιστών / Αρχές Βιολογικής Γεωργίας
DESCRIPTION:Ώρα προσέλευσης: 08:00 π.μ.\nΏρα έναρξης: 08:30 π.μ.\nΔιάρκεια: 3 ώρες\nΜαθήματα: Ανατομία-Φυσιολογία ΙΙ | Αρχές Οικονομικής Θεωρίας (ΑΟΘ) | Δίκτυα Υπολογιστών | Αρχές Βιολογικής Γεωργίας
LOCATION:Εξεταστικό Κέντρο
BEGIN:VALARM
TRIGGER:-PT1H
ACTION:DISPLAY
DESCRIPTION:Υπενθύμιση: ΕΠΑΛ ειδικότητες σε 1 ώρα
END:VALARM
END:VEVENT

BEGIN:VEVENT
DTSTART:20260606T083000
DTEND:20260606T113000
SUMMARY:ΕΠΑΛ - Ειδικότητες: Ηλεκτροτεχνία 2 / Αρχιτεκτονικό Σχέδιο / Προγραμματισμός / Ιστορία Σύγχρονης Τέχνης
DESCRIPTION:Ώρα προσέλευσης: 08:00 π.μ.\nΏρα έναρξης: 08:30 π.μ.\nΔιάρκεια: 3 ώρες (Αρχιτεκτονικό Σχέδιο: 4 ώρες)\nΜαθήματα: Ηλεκτροτεχνία 2 | Αρχιτεκτονικό Σχέδιο (4ωρο) | Προγραμματισμός Υπολογιστών | Ιστορία Σύγχρονης Τέχνης
LOCATION:Εξεταστικό Κέντρο
BEGIN:VALARM
TRIGGER:-PT1H
ACTION:DISPLAY
DESCRIPTION:Υπενθύμιση: ΕΠΑΛ ειδικότητες σε 1 ώρα
END:VALARM
END:VEVENT

BEGIN:VEVENT
DTSTART:20260609T083000
DTEND:20260609T113000
SUMMARY:ΕΠΑΛ - Ειδικότητες: Υγιεινή / Ναυτικό Δίκαιο / ΑΟΔ / Στοιχεία Μηχανών
DESCRIPTION:Ώρα προσέλευσης: 08:00 π.μ.\nΏρα έναρξης: 08:30 π.μ.\nΔιάρκεια: 3 ώρες\nΜαθήματα: Υγιεινή | Ναυτικό Δίκαιο-Διεθνείς Κανονισμοί στη Ναυτιλία | Αρχές Οργάνωσης και Διοίκησης (ΑΟΔ) | Στοιχεία Μηχανών
LOCATION:Εξεταστικό Κέντρο
BEGIN:VALARM
TRIGGER:-PT1H
ACTION:DISPLAY
DESCRIPTION:Υπενθύμιση: ΕΠΑΛ ειδικότητες σε 1 ώρα
END:VALARM
END:VEVENT

BEGIN:VEVENT
DTSTART:20260611T083000
DTEND:20260611T113000
SUMMARY:ΕΠΑΛ - Ειδικότητες: Ηλεκτρικές Μηχανές / Σύγχρονες Γεωργικές Επιχειρήσεις / Ναυσιπλοΐα ΙΙ / Ναυτικές Μηχανές
DESCRIPTION:Ώρα προσέλευσης: 08:00 π.μ.\nΏρα έναρξης: 08:30 π.μ.\nΔιάρκεια: 3 ώρες\nΜαθήματα: Ηλεκτρικές Μηχανές | Σύγχρονες Γεωργικές Επιχειρήσεις | Ναυσιπλοΐα ΙΙ | Ναυτικές Μηχανές
LOCATION:Εξεταστικό Κέντρο
BEGIN:VALARM
TRIGGER:-PT1H
ACTION:DISPLAY
DESCRIPTION:Υπενθύμιση: ΕΠΑΛ ειδικότητες σε 1 ώρα
END:VALARM
END:VEVENT

BEGIN:VEVENT
DTSTART:20260613T083000
DTEND:20260613T113000
SUMMARY:ΕΠΑΛ - Ειδικότητες: Τεχνολογία Υλικών / Οικοδομική / ΜΕΚ ΙΙ / Ψηφιακά Συστήματα
DESCRIPTION:Ώρα προσέλευσης: 08:00 π.μ.\nΏρα έναρξης: 08:30 π.μ.\nΔιάρκεια: 3 ώρες\nΜαθήματα: Τεχνολογία Υλικών | Οικοδομική | Μηχανές Εσωτερικής Καύσης ΙΙ (ΜΕΚ ΙΙ) | Ψηφιακά Συστήματα
LOCATION:Εξεταστικό Κέντρο
BEGIN:VALARM
TRIGGER:-PT1H
ACTION:DISPLAY
DESCRIPTION:Υπενθύμιση: ΕΠΑΛ ειδικότητες σε 1 ώρα
END:VALARM
END:VEVENT

BEGIN:VEVENT
DTSTART:20260615T083000
DTEND:20260615T113000
SUMMARY:ΕΠΑΛ - Ειδικότητες: Στοιχεία Ψύξης-Κλιματισμού / Κινητήρες Αεροσκαφών / Κεντρικές Θερμάνσεις
DESCRIPTION:Ώρα προσέλευσης: 08:00 π.μ.\nΏρα έναρξης: 08:30 π.μ.\nΔιάρκεια: 3 ώρες\nΜαθήματα: Στοιχεία Ψύξης-Κλιματισμού | Κινητήρες Αεροσκαφών | Στοιχεία Σχεδιασμού Κεντρικών Θερμάνσεων
LOCATION:Εξεταστικό Κέντρο
BEGIN:VALARM
TRIGGER:-PT1H
ACTION:DISPLAY
DESCRIPTION:Υπενθύμιση: ΕΠΑΛ ειδικότητες σε 1 ώρα
END:VALARM
END:VEVENT

BEGIN:VEVENT
DTSTART:20260616T100000
DTEND:20260616T130000
SUMMARY:Ειδικά Μαθήματα - Αγγλικά (ΓΕΛ & ΕΠΑΛ)
DESCRIPTION:Ώρα προσέλευσης: 09:30 π.μ.\nΏρα έναρξης: 10:00 π.μ.\nΔιάρκεια: 3 ώρες
LOCATION:Εξεταστικό Κέντρο
BEGIN:VALARM
TRIGGER:-PT1H
ACTION:DISPLAY
DESCRIPTION:Υπενθύμιση: Ειδικό Μάθημα Αγγλικά σε 1 ώρα
END:VALARM
END:VEVENT

BEGIN:VEVENT
DTSTART:20260617T083000
DTEND:20260617T143000
SUMMARY:Ειδικά Μαθήματα - Ελεύθερο Σχέδιο (ΓΕΛ & ΕΠΑΛ)
DESCRIPTION:Ώρα προσέλευσης: 08:00 π.μ.\nΏρα έναρξης: 08:30 π.μ.\nΔιάρκεια: 6 ώρες
LOCATION:Εξεταστικό Κέντρο
BEGIN:VALARM
TRIGGER:-PT1H
ACTION:DISPLAY
DESCRIPTION:Υπενθύμιση: Ελεύθερο Σχέδιο σε 1 ώρα
END:VALARM
END:VEVENT

BEGIN:VEVENT
DTSTART:20260618T083000
DTEND:20260618T143000
SUMMARY:Ειδικά Μαθήματα - Γραμμικό Σχέδιο (ΓΕΛ & ΕΠΑΛ)
DESCRIPTION:Ώρα προσέλευσης: 08:00 π.μ.\nΏρα έναρξης: 08:30 π.μ.\nΔιάρκεια: 6 ώρες
LOCATION:Εξεταστικό Κέντρο
BEGIN:VALARM
TRIGGER:-PT1H
ACTION:DISPLAY
DESCRIPTION:Υπενθύμιση: Γραμμικό Σχέδιο σε 1 ώρα
END:VALARM
END:VEVENT

BEGIN:VEVENT
DTSTART:20260619T083000
DTEND:20260619T113000
SUMMARY:Ειδικά Μαθήματα - Γερμανικά (ΓΕΛ & ΕΠΑΛ)
DESCRIPTION:Ώρα προσέλευσης: 08:00 π.μ.\nΏρα έναρξης: 08:30 π.μ.\nΔιάρκεια: 3 ώρες
LOCATION:Εξεταστικό Κέντρο
BEGIN:VALARM
TRIGGER:-PT1H
ACTION:DISPLAY
DESCRIPTION:Υπενθύμιση: Γερμανικά σε 1 ώρα
END:VALARM
END:VEVENT

BEGIN:VEVENT
DTSTART:20260620T100000
DTEND:20260620T133000
SUMMARY:Μουσικά Μαθήματα - Μουσική Αντίληψη, Θεωρία και Αρμονία
DESCRIPTION:Ώρα προσέλευσης: 09:30 π.μ.\nΏρα έναρξης: 10:00 π.μ.\nΔιάρκεια: 3 ώρες 30 λεπτά
LOCATION:Εξεταστικό Κέντρο
BEGIN:VALARM
TRIGGER:-PT1H
ACTION:DISPLAY
DESCRIPTION:Υπενθύμιση: Μουσική Αντίληψη σε 1 ώρα
END:VALARM
END:VEVENT

BEGIN:VEVENT
DTSTART:20260622T083000
DTEND:20260622T113000
SUMMARY:Μουσικά Μαθήματα - Μουσική Εκτέλεση και Ερμηνεία
DESCRIPTION:Ώρα προσέλευσης: 08:00 π.μ.\nΏρα έναρξης: 08:30 π.μ.\nΔιάρκεια: 4-6 λεπτά ανά υποψήφιο (φωνητική ή οργανική μουσική)
LOCATION:Εξεταστικό Κέντρο
BEGIN:VALARM
TRIGGER:-PT1H
ACTION:DISPLAY
DESCRIPTION:Υπενθύμιση: Μουσική Εκτέλεση σε 1 ώρα
END:VALARM
END:VEVENT

BEGIN:VEVENT
DTSTART:20260623T083000
DTEND:20260623T113000
SUMMARY:Ειδικά Μαθήματα - Γαλλικά (ΓΕΛ & ΕΠΑΛ)
DESCRIPTION:Ώρα προσέλευσης: 08:00 π.μ.\nΏρα έναρξης: 08:30 π.μ.\nΔιάρκεια: 3 ώρες
LOCATION:Εξεταστικό Κέντρο
BEGIN:VALARM
TRIGGER:-PT1H
ACTION:DISPLAY
DESCRIPTION:Υπενθύμιση: Γαλλικά σε 1 ώρα
END:VALARM
END:VEVENT

BEGIN:VEVENT
DTSTART:20260624T083000
DTEND:20260624T113000
SUMMARY:Ειδικά Μαθήματα - Ιταλικά (ΓΕΛ & ΕΠΑΛ)
DESCRIPTION:Ώρα προσέλευσης: 08:00 π.μ.\nΏρα έναρξης: 08:30 π.μ.\nΔιάρκεια: 3 ώρες
LOCATION:Εξεταστικό Κέντρο
BEGIN:VALARM
TRIGGER:-PT1H
ACTION:DISPLAY
DESCRIPTION:Υπενθύμιση: Ιταλικά σε 1 ώρα
END:VALARM
END:VEVENT

BEGIN:VEVENT
DTSTART:20260625T083000
DTEND:20260625T113000
SUMMARY:Ειδικά Μαθήματα - Ισπανικά (ΓΕΛ & ΕΠΑΛ)
DESCRIPTION:Ώρα προσέλευσης: 08:00 π.μ.\nΏρα έναρξης: 08:30 π.μ.\nΔιάρκεια: 3 ώρες
LOCATION:Εξεταστικό Κέντρο
BEGIN:VALARM
TRIGGER:-PT1H
ACTION:DISPLAY
DESCRIPTION:Υπενθύμιση: Ισπανικά σε 1 ώρα
END:VALARM
END:VEVENT

BEGIN:VEVENT
DTSTART:20260615
DTEND:20260627
SUMMARY:ΤΕΦΑΑ - Υγειονομική Εξέταση & Πρακτική Δοκιμασία (ΓΕΛ & ΕΠΑΛ)
DESCRIPTION:Περίοδος διεξαγωγής Υγειονομικής Εξέτασης και Πρακτικής Δοκιμασίας για εισαγωγή στα ΤΕΦΑΑ ακαδ. έτους 2026-27.\nΑπό: Δευτέρα 15/6/2026\nΈως: Παρασκευή 26/6/2026
END:VEVENT

END:VCALENDAR
